BEGIN:VCALENDAR
VERSION:2.0
PRODID:-//Plone.org//NONSGML plone.app.event//EN
X-WR-TIMEZONE:US/Central
BEGIN:VEVENT
SUMMARY:Jerseyville's Got Pets! Pet Fashion Show Contest
DTSTART;TZID=US/Central:20230218T130000
DTEND;TZID=US/Central:20230218T140000
DTSTAMP:20260420T121805Z
UID:29deb593eec74460bebf30cb347b0097@saas_stack_varnish:6080
CREATED:20230130T223902Z
LAST-MODIFIED:20230130T223909Z
LOCATION:Jerseyville Public Library
URL:https://www.jerseyvillelibrary.org/news-events/jerseyvilles-got-pets-p
 et-fashion-show-contest
END:VEVENT
BEGIN:VTIMEZONE
TZID:US/Central
X-LIC-LOCATION:US/Central
BEGIN:STANDARD
DTSTART:20221106T010000
TZNAME:CST
TZOFFSETFROM:-0500
TZOFFSETTO:-0600
END:STANDARD
END:VTIMEZONE
END:VCALENDAR
