BEGIN:VCALENDAR
VERSION:2.0
PRODID:-//Plone.org//NONSGML plone.app.event//EN
X-WR-TIMEZONE:US/Central
BEGIN:VEVENT
SUMMARY:JPL Digital Products Workshop
DTSTART;TZID=US/Central:20220129T100000
DTEND;TZID=US/Central:20220129T110000
DTSTAMP:20260420T155917Z
UID:10a8dfd899424c1fbe8ea6e78d1cd9c9@saas_stack_varnish:6080
CREATED:20211227T224437Z
LAST-MODIFIED:20211227T224500Z
LOCATION:Jerseyville Public Library
URL:https://www.jerseyvillelibrary.org/news-events/jpl-digital-products-wo
 rkshop
END:VEVENT
BEGIN:VTIMEZONE
TZID:US/Central
X-LIC-LOCATION:US/Central
BEGIN:STANDARD
DTSTART:20211107T010000
TZNAME:CST
TZOFFSETFROM:-0500
TZOFFSETTO:-0600
END:STANDARD
END:VTIMEZONE
END:VCALENDAR
