BEGIN:VCALENDAR
VERSION:2.0
PRODID:-//Plone.org//NONSGML plone.app.event//EN
X-WR-TIMEZONE:US/Central
BEGIN:VEVENT
SUMMARY:Kid's Holiday Craft Days
DTSTART;TZID=US/Central:20221210T100000
DTEND;TZID=US/Central:20221210T110000
DTSTAMP:20260420T104615Z
UID:b19e0c5a92574961bf70de88b5a347e1@saas_stack_varnish:6080
CREATED:20221126T003204Z
LAST-MODIFIED:20221126T003212Z
LOCATION:Jerseyville Public Library
URL:https://www.jerseyvillelibrary.org/news-events/kids-holiday-craft-days
 /2022-12-10
END:VEVENT
BEGIN:VTIMEZONE
TZID:US/Central
X-LIC-LOCATION:US/Central
BEGIN:STANDARD
DTSTART:20221106T010000
TZNAME:CST
TZOFFSETFROM:-0500
TZOFFSETTO:-0600
END:STANDARD
END:VTIMEZONE
END:VCALENDAR
