BEGIN:VCALENDAR
VERSION:2.0
PRODID:-//Plone.org//NONSGML plone.app.event//EN
X-WR-TIMEZONE:US/Central
BEGIN:VEVENT
SUMMARY:Kid's Holiday Craft Days
DTSTART;TZID=US/Central:20221203T100000
DTEND;TZID=US/Central:20221203T110000
DTSTAMP:20260420T115700Z
UID:b19e0c5a92574961bf70de88b5a347e1@saas_stack_varnish:6080
RRULE:FREQ=WEEKLY;COUNT=2;BYDAY=SA
CREATED:20221126T003204Z
LAST-MODIFIED:20221126T003212Z
LOCATION:Jerseyville Public Library
URL:https://www.jerseyvillelibrary.org/news-events/kids-holiday-craft-days
END:VEVENT
BEGIN:VTIMEZONE
TZID:US/Central
X-LIC-LOCATION:US/Central
BEGIN:STANDARD
DTSTART:20221106T010000
TZNAME:CST
TZOFFSETFROM:-0500
TZOFFSETTO:-0600
END:STANDARD
END:VTIMEZONE
END:VCALENDAR
