BEGIN:VCALENDAR
VERSION:2.0
PRODID:-//Plone.org//NONSGML plone.app.event//EN
X-WR-TIMEZONE:US/Central
BEGIN:VEVENT
SUMMARY:Leap Day Drop In
DTSTART;TZID=US/Central:20200229T090000
DTEND;TZID=US/Central:20200229T163000
DTSTAMP:20260420T185049Z
UID:440e96362b2c4c8bbb3505cf2c21369f@saas_stack_varnish:6080
CONTACT:618-498-9514
CREATED:20200129T152736Z
LAST-MODIFIED:20200129T152741Z
LOCATION:Jerseyville PL meeting room
URL:https://www.jerseyvillelibrary.org/news-events/leap-day-drop-in
END:VEVENT
BEGIN:VTIMEZONE
TZID:US/Central
X-LIC-LOCATION:US/Central
BEGIN:STANDARD
DTSTART:20191103T010000
TZNAME:CST
TZOFFSETFROM:-0500
TZOFFSETTO:-0600
END:STANDARD
END:VTIMEZONE
END:VCALENDAR
