BEGIN:VCALENDAR
VERSION:2.0
PRODID:-//Plone.org//NONSGML plone.app.event//EN
X-WR-TIMEZONE:US/Central
BEGIN:VEVENT
SUMMARY:Lego Club
DTSTART;TZID=US/Central:20240203T100000
DTEND;TZID=US/Central:20240203T110000
DTSTAMP:20260420T081751Z
UID:828b0ba3e599424aa6ae7573448c78c5@saas_stack_varnish:6080
CREATED:20231219T163451Z
LAST-MODIFIED:20240124T165111Z
LOCATION:Jerseyville Public Library
URL:https://www.jerseyvillelibrary.org/news-events/lego-club-13
END:VEVENT
BEGIN:VTIMEZONE
TZID:US/Central
X-LIC-LOCATION:US/Central
BEGIN:STANDARD
DTSTART:20231105T010000
TZNAME:CST
TZOFFSETFROM:-0500
TZOFFSETTO:-0600
END:STANDARD
END:VTIMEZONE
END:VCALENDAR
