BEGIN:VCALENDAR
VERSION:2.0
PRODID:-//Plone.org//NONSGML plone.app.event//EN
X-WR-TIMEZONE:US/Central
BEGIN:VEVENT
SUMMARY:Lego Club
DTSTART;TZID=US/Central:20220604T100000
DTEND;TZID=US/Central:20220604T110000
DTSTAMP:20260420T143650Z
UID:0e21f6d0049e4405a5e3d8f5e1c5aed7@saas_stack_varnish:6080
CREATED:20220526T143836Z
LAST-MODIFIED:20220526T143854Z
LOCATION:Jerseyville Public Library
URL:https://www.jerseyvillelibrary.org/news-events/lego-club-2
END:VEVENT
BEGIN:VTIMEZONE
TZID:US/Central
X-LIC-LOCATION:US/Central
BEGIN:DAYLIGHT
DTSTART:20220313T030000
TZNAME:CDT
TZOFFSETFROM:-0600
TZOFFSETTO:-0500
END:DAYLIGHT
END:VTIMEZONE
END:VCALENDAR
