BEGIN:VCALENDAR
VERSION:2.0
PRODID:-//Plone.org//NONSGML plone.app.event//EN
X-WR-TIMEZONE:US/Central
BEGIN:VEVENT
SUMMARY:Lego Club
DTSTART;TZID=US/Central:20220903T100000
DTEND;TZID=US/Central:20220903T110000
DTSTAMP:20260420T144540Z
UID:cd768fddf6334d37a9f11d98e4250f7a@saas_stack_varnish:6080
CREATED:20220830T155145Z
LAST-MODIFIED:20220830T155153Z
URL:https://www.jerseyvillelibrary.org/news-events/lego-club-5
END:VEVENT
BEGIN:VTIMEZONE
TZID:US/Central
X-LIC-LOCATION:US/Central
BEGIN:DAYLIGHT
DTSTART:20220313T030000
TZNAME:CDT
TZOFFSETFROM:-0600
TZOFFSETTO:-0500
END:DAYLIGHT
END:VTIMEZONE
END:VCALENDAR
