BEGIN:VCALENDAR
VERSION:2.0
PRODID:-//Plone.org//NONSGML plone.app.event//EN
X-WR-TIMEZONE:US/Central
BEGIN:VEVENT
SUMMARY:Lego Club
DTSTART;TZID=US/Central:20221001T100000
DTEND;TZID=US/Central:20221001T110000
DTSTAMP:20260420T122758Z
UID:05c2bc86292540a6b12f4c627051faac@saas_stack_varnish:6080
RRULE:FREQ=MONTHLY;COUNT=7;BYDAY=+1SA
CREATED:20220927T192126Z
LAST-MODIFIED:20220927T192136Z
LOCATION:Jerseyville Public Library
URL:https://www.jerseyvillelibrary.org/news-events/lego-club-6
END:VEVENT
BEGIN:VTIMEZONE
TZID:US/Central
X-LIC-LOCATION:US/Central
BEGIN:DAYLIGHT
DTSTART:20220313T030000
TZNAME:CDT
TZOFFSETFROM:-0600
TZOFFSETTO:-0500
END:DAYLIGHT
END:VTIMEZONE
END:VCALENDAR
