BEGIN:VCALENDAR
VERSION:2.0
PRODID:-//Plone.org//NONSGML plone.app.event//EN
X-WR-TIMEZONE:US/Central
BEGIN:VEVENT
SUMMARY:LEGO Club
DTSTART;TZID=US/Central:20230701T100000
DTEND;TZID=US/Central:20230701T110000
DTSTAMP:20260420T104024Z
UID:084c5e9aa82746e0876f5bc74d102b7f@saas_stack_varnish:6080
CREATED:20230630T202118Z
LAST-MODIFIED:20230630T202128Z
LOCATION:Jerseyville Public Library
URL:https://www.jerseyvillelibrary.org/news-events/lego-club-9
END:VEVENT
BEGIN:VTIMEZONE
TZID:US/Central
X-LIC-LOCATION:US/Central
BEGIN:DAYLIGHT
DTSTART:20230312T030000
TZNAME:CDT
TZOFFSETFROM:-0600
TZOFFSETTO:-0500
END:DAYLIGHT
END:VTIMEZONE
END:VCALENDAR
