BEGIN:VCALENDAR
VERSION:2.0
PRODID:-//Plone.org//NONSGML plone.app.event//EN
X-WR-TIMEZONE:US/Central
BEGIN:VEVENT
SUMMARY:Lego Club - Special Date - May 14
DTSTART;TZID=US/Central:20220514T100000
DTEND;TZID=US/Central:20220514T110000
DTSTAMP:20260420T145441Z
UID:13b085cd8c0748a8b8a157e9e984fde8@saas_stack_varnish:6080
CREATED:20220429T154822Z
LAST-MODIFIED:20220429T154828Z
LOCATION:Jerseyville Public Library
URL:https://www.jerseyvillelibrary.org/news-events/lego-club-special-date-
 may-14
END:VEVENT
BEGIN:VTIMEZONE
TZID:US/Central
X-LIC-LOCATION:US/Central
BEGIN:DAYLIGHT
DTSTART:20220313T030000
TZNAME:CDT
TZOFFSETFROM:-0600
TZOFFSETTO:-0500
END:DAYLIGHT
END:VTIMEZONE
END:VCALENDAR
