BEGIN:VCALENDAR
VERSION:2.0
PRODID:-//Plone.org//NONSGML plone.app.event//EN
X-WR-TIMEZONE:US/Central
BEGIN:VEVENT
SUMMARY:Lego Club
DTSTART;TZID=US/Central:20210807T100000
DTEND;TZID=US/Central:20210807T110000
DTSTAMP:20260420T172522Z
UID:7ddf1c43d39141faa74f6017476b82fd@saas_stack_varnish:6080
CREATED:20210731T190731Z
DESCRIPTION:Lego Club once a month on the first Saturday of each month for
  ages K-Gr. 5
LAST-MODIFIED:20210731T190742Z
LOCATION:Jerseyville Public Library
URL:https://www.jerseyvillelibrary.org/news-events/lego-club
END:VEVENT
BEGIN:VTIMEZONE
TZID:US/Central
X-LIC-LOCATION:US/Central
BEGIN:DAYLIGHT
DTSTART:20210314T030000
TZNAME:CDT
TZOFFSETFROM:-0600
TZOFFSETTO:-0500
END:DAYLIGHT
END:VTIMEZONE
END:VCALENDAR
