BEGIN:VCALENDAR
VERSION:2.0
PRODID:-//Plone.org//NONSGML plone.app.event//EN
X-WR-TIMEZONE:US/Central
BEGIN:VEVENT
SUMMARY:1st Tuesday of the Month Buy the Bag Book Sale
DTSTART;VALUE=DATE:20190604
DTEND;VALUE=DATE:20190605
DTSTAMP:20260420T132520Z
UID:2763eade894e45e8ac87fa0e0d3b4c8c@saas_stack_varnish:6080
RRULE:FREQ=MONTHLY;COUNT=12;BYDAY=+1TU
EXDATE;TZID=US/Central:20190903T000000
CONTACT:618.498.9514
CREATED:20190603T201256Z
LAST-MODIFIED:20190829T153852Z
URL:https://www.jerseyvillelibrary.org/news-events/lib-cal/1st-tuesday-of-
 the-month-buy-the-bag-book-sale
END:VEVENT
END:VCALENDAR
