BEGIN:VCALENDAR
VERSION:2.0
PRODID:-//Plone.org//NONSGML plone.app.event//EN
X-WR-TIMEZONE:US/Central
BEGIN:VEVENT
SUMMARY:Annual Cookie Exchange
DTSTART;TZID=US/Central:20191210T190000
DTEND;TZID=US/Central:20191210T203000
DTSTAMP:20260420T172616Z
UID:83b7bbdf8bb04ee9a4cd508a2fd2b1dd@saas_stack_varnish:6080
CONTACT:618-498-9514
CREATED:20191108T220404Z
LAST-MODIFIED:20191108T220416Z
LOCATION:Jerseyville PL meeting room & upstairs meeting room
URL:https://www.jerseyvillelibrary.org/news-events/lib-cal/annual-cookie-e
 xchange-5
END:VEVENT
BEGIN:VTIMEZONE
TZID:US/Central
X-LIC-LOCATION:US/Central
BEGIN:STANDARD
DTSTART:20191103T010000
TZNAME:CST
TZOFFSETFROM:-0500
TZOFFSETTO:-0600
END:STANDARD
END:VTIMEZONE
END:VCALENDAR
