BEGIN:VCALENDAR
VERSION:2.0
PRODID:-//Plone.org//NONSGML plone.app.event//EN
X-WR-TIMEZONE:US/Central
BEGIN:VEVENT
SUMMARY:Another Man's Trash is Another Man's Treasure Book Sale
DTSTART;TZID=US/Central:20210915T083000
DTEND;TZID=US/Central:20210915T170000
DTSTAMP:20260420T173110Z
UID:a854884598ec429894825e4727a0a529@saas_stack_varnish:6080
CREATED:20210901T191051Z
LAST-MODIFIED:20210901T191501Z
LOCATION:Jerseyville Public Library
URL:https://www.jerseyvillelibrary.org/news-events/lib-cal/another-mans-tr
 ash-is-another-mans-treasure-book-sale
END:VEVENT
BEGIN:VTIMEZONE
TZID:US/Central
X-LIC-LOCATION:US/Central
BEGIN:DAYLIGHT
DTSTART:20210314T030000
TZNAME:CDT
TZOFFSETFROM:-0600
TZOFFSETTO:-0500
END:DAYLIGHT
END:VTIMEZONE
END:VCALENDAR
