BEGIN:VCALENDAR
VERSION:2.0
PRODID:-//Plone.org//NONSGML plone.app.event//EN
X-WR-TIMEZONE:US/Central
BEGIN:VEVENT
SUMMARY:Author Meet and Greet w/ Troy Taylor
DTSTART;TZID=US/Central:20181126T183000
DTEND;TZID=US/Central:20181126T193000
DTSTAMP:20260420T105908Z
UID:b99c8d6ee2394ccca4f37d1a858eb854@saas_stack_varnish:6080
CONTACT:618.498.9514
CREATED:20181102T215245Z
LAST-MODIFIED:20181102T215253Z
LOCATION:Library Meeting Room
URL:https://www.jerseyvillelibrary.org/news-events/lib-cal/author-meet-and
 -greet-w-troy-taylor
END:VEVENT
BEGIN:VTIMEZONE
TZID:US/Central
X-LIC-LOCATION:US/Central
BEGIN:STANDARD
DTSTART:20181104T010000
TZNAME:CST
TZOFFSETFROM:-0500
TZOFFSETTO:-0600
END:STANDARD
END:VTIMEZONE
END:VCALENDAR
