BEGIN:VCALENDAR
VERSION:2.0
PRODID:-//Plone.org//NONSGML plone.app.event//EN
X-WR-TIMEZONE:US/Central
BEGIN:VEVENT
SUMMARY:Author Visit - Sarah Angleton
DTSTART;TZID=US/Central:20180922T140000
DTEND;TZID=US/Central:20180922T153000
DTSTAMP:20260420T093001Z
UID:685c75edc3234331810c4f5710f74c17@saas_stack_varnish:6080
CONTACT:618.498.9514
CREATED:20180917T203826Z
LAST-MODIFIED:20180917T203830Z
LOCATION:Jerseyville PL meeting room
URL:https://www.jerseyvillelibrary.org/news-events/lib-cal/author-visit-sa
 rah-angleton
END:VEVENT
BEGIN:VTIMEZONE
TZID:US/Central
X-LIC-LOCATION:US/Central
BEGIN:DAYLIGHT
DTSTART:20180311T030000
TZNAME:CDT
TZOFFSETFROM:-0600
TZOFFSETTO:-0500
END:DAYLIGHT
END:VTIMEZONE
END:VCALENDAR
