BEGIN:VCALENDAR
VERSION:2.0
PRODID:-//Plone.org//NONSGML plone.app.event//EN
X-WR-TIMEZONE:US/Central
BEGIN:VEVENT
SUMMARY:Back to School Party!
DTSTART;TZID=US/Central:20180823T180000
DTEND;TZID=US/Central:20180823T193000
DTSTAMP:20260420T093223Z
UID:582ad5669870428699b730c2944f0776@saas_stack_varnish:6080
CONTACT:618.498.9514
CREATED:20180806T191047Z
LAST-MODIFIED:20180806T191053Z
LOCATION:Jerseyville PL parking lot
URL:https://www.jerseyvillelibrary.org/news-events/lib-cal/back-to-school-
 party
END:VEVENT
BEGIN:VTIMEZONE
TZID:US/Central
X-LIC-LOCATION:US/Central
BEGIN:DAYLIGHT
DTSTART:20180311T030000
TZNAME:CDT
TZOFFSETFROM:-0600
TZOFFSETTO:-0500
END:DAYLIGHT
END:VTIMEZONE
END:VCALENDAR
