BEGIN:VCALENDAR
VERSION:2.0
PRODID:-//Plone.org//NONSGML plone.app.event//EN
X-WR-TIMEZONE:US/Central
BEGIN:VEVENT
SUMMARY:Board of Trustees Meeting
DTSTART;TZID=US/Central:20190122T183000
DTEND;TZID=US/Central:20190122T200000
DTSTAMP:20260420T120218Z
UID:e44f1b30b05b40c0abbbc2fa127e1296@saas_stack_varnish:6080
CONTACT:618.498.9514
CREATED:20190115T215356Z
DESCRIPTION:Postponed from the previous week due to lack of a quorum
LAST-MODIFIED:20190115T215401Z
URL:https://www.jerseyvillelibrary.org/news-events/lib-cal/board-of-truste
 es-meeting-3
END:VEVENT
BEGIN:VTIMEZONE
TZID:US/Central
X-LIC-LOCATION:US/Central
BEGIN:STANDARD
DTSTART:20181104T010000
TZNAME:CST
TZOFFSETFROM:-0500
TZOFFSETTO:-0600
END:STANDARD
END:VTIMEZONE
END:VCALENDAR
