BEGIN:VCALENDAR
VERSION:2.0
PRODID:-//Plone.org//NONSGML plone.app.event//EN
X-WR-TIMEZONE:US/Central
BEGIN:VEVENT
SUMMARY:Board of Trustees Meeting
DTSTART;TZID=US/Central:20190226T183000
DTEND;TZID=US/Central:20190226T193000
DTSTAMP:20260420T120259Z
UID:8228504521b3452e8dcdeb90a998538c@saas_stack_varnish:6080
CONTACT:618.498.9514
CREATED:20190212T172703Z
DESCRIPTION:Regularly scheduled meeting delayed by 1 week.
LAST-MODIFIED:20190212T172709Z
LOCATION:Jerseyville PL upstairs meeting room
URL:https://www.jerseyvillelibrary.org/news-events/lib-cal/board-of-truste
 es-meeting-4
END:VEVENT
BEGIN:VTIMEZONE
TZID:US/Central
X-LIC-LOCATION:US/Central
BEGIN:STANDARD
DTSTART:20181104T010000
TZNAME:CST
TZOFFSETFROM:-0500
TZOFFSETTO:-0600
END:STANDARD
END:VTIMEZONE
END:VCALENDAR
