BEGIN:VCALENDAR
VERSION:2.0
PRODID:-//Plone.org//NONSGML plone.app.event//EN
X-WR-TIMEZONE:US/Central
BEGIN:VEVENT
SUMMARY:Board of Trustees Meeting
DTSTART;TZID=US/Central:20190430T183000
DTEND;TZID=US/Central:20190430T193000
DTSTAMP:20260420T134139Z
UID:1ff7e0e7ba054961a2f950f8f73eba82@saas_stack_varnish:6080
CONTACT:618.498.9514
CREATED:20190425T202239Z
DESCRIPTION:Rescheduled from the 3rd Tuesday of April
LAST-MODIFIED:20190425T202352Z
LOCATION:Jerseyville PL upstairs meeting room
URL:https://www.jerseyvillelibrary.org/news-events/lib-cal/board-of-truste
 es-meeting-5
END:VEVENT
BEGIN:VTIMEZONE
TZID:US/Central
X-LIC-LOCATION:US/Central
BEGIN:DAYLIGHT
DTSTART:20190310T030000
TZNAME:CDT
TZOFFSETFROM:-0600
TZOFFSETTO:-0500
END:DAYLIGHT
END:VTIMEZONE
END:VCALENDAR
