BEGIN:VCALENDAR
VERSION:2.0
PRODID:-//Plone.org//NONSGML plone.app.event//EN
X-WR-TIMEZONE:US/Central
BEGIN:VEVENT
SUMMARY:Book Club for Adults
DTSTART;TZID=US/Central:20181126T180000
DTEND;TZID=US/Central:20181126T183000
DTSTAMP:20260420T105204Z
UID:20c8a8fe6ced41da94a07d3bfabbe1fc@saas_stack_varnish:6080
CONTACT:618.498.9514
CREATED:20181102T214807Z
LAST-MODIFIED:20181102T214813Z
LOCATION:Library Meeting Room
URL:https://www.jerseyvillelibrary.org/news-events/lib-cal/book-club-for-a
 dults
END:VEVENT
BEGIN:VTIMEZONE
TZID:US/Central
X-LIC-LOCATION:US/Central
BEGIN:STANDARD
DTSTART:20181104T010000
TZNAME:CST
TZOFFSETFROM:-0500
TZOFFSETTO:-0600
END:STANDARD
END:VTIMEZONE
END:VCALENDAR
