BEGIN:VCALENDAR
VERSION:2.0
PRODID:-//Plone.org//NONSGML plone.app.event//EN
X-WR-TIMEZONE:US/Central
BEGIN:VEVENT
SUMMARY:Budget Workshop Pt. 2
DTSTART;TZID=US/Central:20190606T183000
DTEND;TZID=US/Central:20190606T200000
DTSTAMP:20260420T131749Z
UID:c79f22978d3e413e8940b29fe6ce1408@saas_stack_varnish:6080
CONTACT:618.498.9514
CREATED:20190603T201443Z
LAST-MODIFIED:20190603T201447Z
URL:https://www.jerseyvillelibrary.org/news-events/lib-cal/budget-workshop
 -pt-2
END:VEVENT
BEGIN:VTIMEZONE
TZID:US/Central
X-LIC-LOCATION:US/Central
BEGIN:DAYLIGHT
DTSTART:20190310T030000
TZNAME:CDT
TZOFFSETFROM:-0600
TZOFFSETTO:-0500
END:DAYLIGHT
END:VTIMEZONE
END:VCALENDAR
