BEGIN:VCALENDAR
VERSION:2.0
PRODID:-//Plone.org//NONSGML plone.app.event//EN
X-WR-TIMEZONE:US/Central
BEGIN:VEVENT
SUMMARY:"Buy-the Bag" Book Sale
DTSTART;TZID=US/Central:20190108T083000
DTEND;TZID=US/Central:20190108T203000
DTSTAMP:20260420T121501Z
UID:3300d139c35a4847b95d2b7b7619e60c@saas_stack_varnish:6080
CONTACT:618.498.9514
CREATED:20181226T230438Z
LAST-MODIFIED:20181227T153242Z
URL:https://www.jerseyvillelibrary.org/news-events/lib-cal/buy-the-bag-boo
 k-sale
END:VEVENT
BEGIN:VTIMEZONE
TZID:US/Central
X-LIC-LOCATION:US/Central
BEGIN:STANDARD
DTSTART:20181104T010000
TZNAME:CST
TZOFFSETFROM:-0500
TZOFFSETTO:-0600
END:STANDARD
END:VTIMEZONE
END:VCALENDAR
