BEGIN:VCALENDAR
VERSION:2.0
PRODID:-//Plone.org//NONSGML plone.app.event//EN
X-WR-TIMEZONE:US/Central
BEGIN:VEVENT
SUMMARY:Children's Book Sale
DTSTART;TZID=US/Central:20180604T083000
DTEND;TZID=US/Central:20180604T210000
DTSTAMP:20260420T082201Z
UID:4bb97a6e2f184553b5ebfdd484011075@saas_stack_varnish:6080
RRULE:FREQ=WEEKLY;COUNT=10;BYDAY=MO,TU,WE,TH,FR
EXDATE;TZID=US/Central:20180608T000000,20180609T000000,20180610T000000,201
 80615T000000
CONTACT:6184989514
CREATED:20180523T215942Z
LAST-MODIFIED:20180523T215946Z
LOCATION:Small Side of the Meeting Room
URL:https://www.jerseyvillelibrary.org/news-events/lib-cal/childrens-book-
 sale-1
END:VEVENT
BEGIN:VTIMEZONE
TZID:US/Central
X-LIC-LOCATION:US/Central
BEGIN:DAYLIGHT
DTSTART:20180311T030000
TZNAME:CDT
TZOFFSETFROM:-0600
TZOFFSETTO:-0500
END:DAYLIGHT
END:VTIMEZONE
END:VCALENDAR
