BEGIN:VCALENDAR
VERSION:2.0
PRODID:-//Plone.org//NONSGML plone.app.event//EN
X-WR-TIMEZONE:US/Central
BEGIN:VEVENT
SUMMARY:Christmas Caroling Live on Facebook
DTSTART;TZID=US/Central:20201214T174500
DTEND;TZID=US/Central:20201214T183000
DTSTAMP:20260420T185939Z
UID:ebeb3c1328414f4bb57086397a9d8ed5@saas_stack_varnish:6080
CREATED:20201207T032410Z
LAST-MODIFIED:20201207T032427Z
LOCATION:Facebook Page
URL:https://www.jerseyvillelibrary.org/news-events/lib-cal/christmas-carol
 ing-live-on-facebook
END:VEVENT
BEGIN:VTIMEZONE
TZID:US/Central
X-LIC-LOCATION:US/Central
BEGIN:STANDARD
DTSTART:20201101T010000
TZNAME:CST
TZOFFSETFROM:-0500
TZOFFSETTO:-0600
END:STANDARD
END:VTIMEZONE
END:VCALENDAR
