BEGIN:VCALENDAR
VERSION:2.0
PRODID:-//Plone.org//NONSGML plone.app.event//EN
X-WR-TIMEZONE:US/Central
BEGIN:VEVENT
SUMMARY:Christmas Eve
DTSTART;TZID=US/Central:20181224T120000
DTEND;TZID=US/Central:20181224T203000
DTSTAMP:20260420T115549Z
UID:ffe66eecfeb94af7a68d37adc70e8dbb@saas_stack_varnish:6080
RRULE:FREQ=YEARLY;COUNT=3;BYMONTHDAY=24;BYMONTH=12
CATEGORIES:closure
CREATED:20171205T213340Z
LAST-MODIFIED:20191007T211736Z
URL:https://www.jerseyvillelibrary.org/news-events/lib-cal/christmas-eve-2
END:VEVENT
BEGIN:VTIMEZONE
TZID:US/Central
X-LIC-LOCATION:US/Central
BEGIN:STANDARD
DTSTART:20181104T010000
TZNAME:CST
TZOFFSETFROM:-0500
TZOFFSETTO:-0600
END:STANDARD
END:VTIMEZONE
END:VCALENDAR
