BEGIN:VCALENDAR
VERSION:2.0
PRODID:-//Plone.org//NONSGML plone.app.event//EN
X-WR-TIMEZONE:US/Central
BEGIN:VEVENT
SUMMARY:City of Jerseyville Bunny Hop Breakfast
DTSTART;TZID=US/Central:20190420T080000
DTEND;TZID=US/Central:20190420T100000
DTSTAMP:20260420T150100Z
UID:892a1ec9d87c425c8f7c048a399b6f55@saas_stack_varnish:6080
CONTACT:618.498.2222
CREATED:20190403T182433Z
LAST-MODIFIED:20190403T182441Z
LOCATION:Susnig Center
URL:https://www.jerseyvillelibrary.org/news-events/lib-cal/city-of-jerseyv
 ille-bunny-hop-breakfast
END:VEVENT
BEGIN:VTIMEZONE
TZID:US/Central
X-LIC-LOCATION:US/Central
BEGIN:DAYLIGHT
DTSTART:20190310T030000
TZNAME:CDT
TZOFFSETFROM:-0600
TZOFFSETTO:-0500
END:DAYLIGHT
END:VTIMEZONE
END:VCALENDAR
