BEGIN:VCALENDAR
VERSION:2.0
PRODID:-//Plone.org//NONSGML plone.app.event//EN
X-WR-TIMEZONE:US/Central
BEGIN:VEVENT
SUMMARY:Crafts with Chris
DTSTART;TZID=US/Central:20181205T183000
DTEND;TZID=US/Central:20181205T200000
DTSTAMP:20260420T115655Z
UID:63e17f01b23547359d6140d202ecb49d@saas_stack_varnish:6080
CONTACT:618.498.9514
CREATED:20181123T192923Z
DESCRIPTION:Toothbrush Painted Christmas Cards
LAST-MODIFIED:20181123T192930Z
LOCATION:Jerseyville PL meeting room
URL:https://www.jerseyvillelibrary.org/news-events/lib-cal/crafts-with-chr
 is-1
END:VEVENT
BEGIN:VTIMEZONE
TZID:US/Central
X-LIC-LOCATION:US/Central
BEGIN:STANDARD
DTSTART:20181104T010000
TZNAME:CST
TZOFFSETFROM:-0500
TZOFFSETTO:-0600
END:STANDARD
END:VTIMEZONE
END:VCALENDAR
