BEGIN:VCALENDAR
VERSION:2.0
PRODID:-//Plone.org//NONSGML plone.app.event//EN
X-WR-TIMEZONE:US/Central
BEGIN:VEVENT
SUMMARY:Crafts with Chris--for Adults
DTSTART;TZID=US/Central:20190917T183000
DTEND;TZID=US/Central:20190917T200000
DTSTAMP:20260420T161506Z
UID:697dc51daa854500aaaf49b3701a505d@saas_stack_varnish:6080
CONTACT:618.498.9514
CREATED:20190829T204132Z
LAST-MODIFIED:20190829T204147Z
LOCATION:Jerseyville PL meeting room
URL:https://www.jerseyvillelibrary.org/news-events/lib-cal/crafts-with-chr
 is-for-adults
END:VEVENT
BEGIN:VTIMEZONE
TZID:US/Central
X-LIC-LOCATION:US/Central
BEGIN:DAYLIGHT
DTSTART:20190310T030000
TZNAME:CDT
TZOFFSETFROM:-0600
TZOFFSETTO:-0500
END:DAYLIGHT
END:VTIMEZONE
END:VCALENDAR
