BEGIN:VCALENDAR
VERSION:2.0
PRODID:-//Plone.org//NONSGML plone.app.event//EN
X-WR-TIMEZONE:US/Central
BEGIN:VEVENT
SUMMARY:Downtown Country Christmas
DTSTART;TZID=US/Central:20181124T103000
DTEND;TZID=US/Central:20181124T193000
DTSTAMP:20260420T104222Z
UID:a12b19fad9b947e89e30a1e615d0da41@saas_stack_varnish:6080
CONTACT:https://www.facebook.com/Downtown-Country-Christmas-Festival-INC-8
 68465683302232/
CREATED:20181102T214402Z
LAST-MODIFIED:20181102T214512Z
LOCATION:State Street in Downtown Jerseyville
URL:https://www.jerseyvillelibrary.org/news-events/lib-cal/downtown-countr
 y-christmas
END:VEVENT
BEGIN:VTIMEZONE
TZID:US/Central
X-LIC-LOCATION:US/Central
BEGIN:STANDARD
DTSTART:20181104T010000
TZNAME:CST
TZOFFSETFROM:-0500
TZOFFSETTO:-0600
END:STANDARD
END:VTIMEZONE
END:VCALENDAR
