BEGIN:VCALENDAR
VERSION:2.0
PRODID:-//Plone.org//NONSGML plone.app.event//EN
X-WR-TIMEZONE:US/Central
BEGIN:VEVENT
SUMMARY:Easter Sunday
DTSTART;VALUE=DATE:20200412
DTEND;VALUE=DATE:20200413
DTSTAMP:20260420T185014Z
UID:783ea660c4244becb04be9e625d50eec@saas_stack_varnish:6080
CATEGORIES:closure
CREATED:20181127T162710Z
LAST-MODIFIED:20200204T022529Z
URL:https://www.jerseyvillelibrary.org/news-events/lib-cal/easter-sunday-1
END:VEVENT
END:VCALENDAR
