BEGIN:VCALENDAR
VERSION:2.0
PRODID:-//Plone.org//NONSGML plone.app.event//EN
X-WR-TIMEZONE:US/Central
BEGIN:VEVENT
SUMMARY:Easter Sunday
DTSTART;VALUE=DATE:20190421
DTEND;VALUE=DATE:20190422
DTSTAMP:20260420T133715Z
UID:a564deb766bb4702a554d5d29248b039@saas_stack_varnish:6080
CATEGORIES:Closure
CREATED:20190403T184707Z
LAST-MODIFIED:20190403T184713Z
URL:https://www.jerseyvillelibrary.org/news-events/lib-cal/easter-sunday-2
END:VEVENT
END:VCALENDAR
