BEGIN:VCALENDAR
VERSION:2.0
PRODID:-//Plone.org//NONSGML plone.app.event//EN
X-WR-TIMEZONE:US/Central
BEGIN:VEVENT
SUMMARY:Easter Sunday
DTSTART;TZID=US/Central:20200412T130000
DTEND;TZID=US/Central:20200412T160000
DTSTAMP:20260421T080344Z
UID:f0ee7533c32f44e680a095f78fae5ec4@saas_stack_varnish:6080
CATEGORIES:closure,holiday
CREATED:20191007T214351Z
LAST-MODIFIED:20191007T214359Z
URL:https://www.jerseyvillelibrary.org/news-events/lib-cal/easter-sunday-3
END:VEVENT
BEGIN:VTIMEZONE
TZID:US/Central
X-LIC-LOCATION:US/Central
BEGIN:DAYLIGHT
DTSTART:20200308T030000
TZNAME:CDT
TZOFFSETFROM:-0600
TZOFFSETTO:-0500
END:DAYLIGHT
END:VTIMEZONE
END:VCALENDAR
