BEGIN:VCALENDAR
VERSION:2.0
PRODID:-//Plone.org//NONSGML plone.app.event//EN
X-WR-TIMEZONE:US/Central
BEGIN:VEVENT
SUMMARY:Fall Book Sale
DTSTART;TZID=US/Central:20181013T083000
DTEND;TZID=US/Central:20181013T110000
DTSTAMP:20260420T104104Z
UID:f0ff8493b32d4121b4da49fec284df98@saas_stack_varnish:6080
CONTACT:618.498.9514
CREATED:20180907T152057Z
LAST-MODIFIED:20180907T152102Z
LOCATION:Jerseyville PL meeting room
URL:https://www.jerseyvillelibrary.org/news-events/lib-cal/fall-book-sale-
 3
END:VEVENT
BEGIN:VTIMEZONE
TZID:US/Central
X-LIC-LOCATION:US/Central
BEGIN:DAYLIGHT
DTSTART:20180311T030000
TZNAME:CDT
TZOFFSETFROM:-0600
TZOFFSETTO:-0500
END:DAYLIGHT
END:VTIMEZONE
END:VCALENDAR
