BEGIN:VCALENDAR
VERSION:2.0
PRODID:-//Plone.org//NONSGML plone.app.event//EN
X-WR-TIMEZONE:US/Central
BEGIN:VEVENT
SUMMARY:Fall Book Sale - Preview Night
DTSTART;TZID=US/Central:20181011T150000
DTEND;TZID=US/Central:20181011T190000
DTSTAMP:20260420T104909Z
UID:56739134e6074d468e037153784eb57e@saas_stack_varnish:6080
CONTACT:618.498.9514
CREATED:20180907T151355Z
LAST-MODIFIED:20180907T151401Z
LOCATION:Jerseyville PL meeting room
URL:https://www.jerseyvillelibrary.org/news-events/lib-cal/fall-book-sale-
 preview-night
END:VEVENT
BEGIN:VTIMEZONE
TZID:US/Central
X-LIC-LOCATION:US/Central
BEGIN:DAYLIGHT
DTSTART:20180311T030000
TZNAME:CDT
TZOFFSETFROM:-0600
TZOFFSETTO:-0500
END:DAYLIGHT
END:VTIMEZONE
END:VCALENDAR
