BEGIN:VCALENDAR
VERSION:2.0
PRODID:-//Plone.org//NONSGML plone.app.event//EN
X-WR-TIMEZONE:US/Central
BEGIN:VEVENT
SUMMARY:Family Reading Night
DTSTART;TZID=US/Central:20191121T183000
DTEND;TZID=US/Central:20191121T200000
DTSTAMP:20260420T172808Z
UID:990b6426549a4d1fb7d7eb309351aad0@saas_stack_varnish:6080
CONTACT:618-498-9514
CREATED:20191030T211419Z
LAST-MODIFIED:20191030T211426Z
LOCATION:Jerseyville PL meeting room
URL:https://www.jerseyvillelibrary.org/news-events/lib-cal/family-reading-
 night-1
END:VEVENT
BEGIN:VTIMEZONE
TZID:US/Central
X-LIC-LOCATION:US/Central
BEGIN:STANDARD
DTSTART:20191103T010000
TZNAME:CST
TZOFFSETFROM:-0500
TZOFFSETTO:-0600
END:STANDARD
END:VTIMEZONE
END:VCALENDAR
