BEGIN:VCALENDAR
VERSION:2.0
PRODID:-//Plone.org//NONSGML plone.app.event//EN
X-WR-TIMEZONE:US/Central
BEGIN:VEVENT
SUMMARY:Farmer's Market
DTSTART;TZID=US/Central:20180626T160000
DTEND;TZID=US/Central:20180626T190000
DTSTAMP:20260420T082102Z
UID:6ab0ea033e2e4f5f8b0003071dfb2e9c@saas_stack_varnish:6080
RRULE:FREQ=WEEKLY;UNTIL=20180925T000000;BYDAY=TU
CONTACT:618-498-8466
CREATED:20180615T135130Z
LAST-MODIFIED:20180615T135139Z
LOCATION:Outrageous Outdoor parking lot\, 902 South State Street\, Jerseyv
 ille\, IL
URL:https://www.jerseyvillelibrary.org/news-events/lib-cal/farmers-market
END:VEVENT
BEGIN:VTIMEZONE
TZID:US/Central
X-LIC-LOCATION:US/Central
BEGIN:DAYLIGHT
DTSTART:20180311T030000
TZNAME:CDT
TZOFFSETFROM:-0600
TZOFFSETTO:-0500
END:DAYLIGHT
END:VTIMEZONE
END:VCALENDAR
