BEGIN:VCALENDAR
VERSION:2.0
PRODID:-//Plone.org//NONSGML plone.app.event//EN
X-WR-TIMEZONE:US/Central
BEGIN:VEVENT
SUMMARY:Friends of the Library Sweetheart Basket Drawing
DTSTART;TZID=US/Central:20200214T083000
DTEND;TZID=US/Central:20200214T084500
DTSTAMP:20260420T175353Z
UID:621b1b8baa1c4f7f9b7432aa35fc4ee3@saas_stack_varnish:6080
CREATED:20200127T152508Z
LAST-MODIFIED:20200127T152518Z
URL:https://www.jerseyvillelibrary.org/news-events/lib-cal/friends-of-the-
 library-sweetheart-basket-drawing
END:VEVENT
BEGIN:VTIMEZONE
TZID:US/Central
X-LIC-LOCATION:US/Central
BEGIN:STANDARD
DTSTART:20191103T010000
TZNAME:CST
TZOFFSETFROM:-0500
TZOFFSETTO:-0600
END:STANDARD
END:VTIMEZONE
END:VCALENDAR
