BEGIN:VCALENDAR
VERSION:2.0
PRODID:-//Plone.org//NONSGML plone.app.event//EN
X-WR-TIMEZONE:US/Central
BEGIN:VEVENT
SUMMARY:Grinch Christmas Party
DTSTART;TZID=US/Central:20191207T100000
DTEND;TZID=US/Central:20191207T120000
DTSTAMP:20260420T172815Z
UID:1e9022f139154db1bdbbfaa2f8f24b07@saas_stack_varnish:6080
CONTACT:Laurie\, 6184989514\, lauriei@jerseyvillelibrary.org
CREATED:20191108T214118Z
DESCRIPTION:Open to kids age K - Grade 5
LAST-MODIFIED:20191108T214125Z
LOCATION:Jerseyville PL meeting room
URL:https://www.jerseyvillelibrary.org/news-events/lib-cal/grinch-christma
 s-party
END:VEVENT
BEGIN:VTIMEZONE
TZID:US/Central
X-LIC-LOCATION:US/Central
BEGIN:STANDARD
DTSTART:20191103T010000
TZNAME:CST
TZOFFSETFROM:-0500
TZOFFSETTO:-0600
END:STANDARD
END:VTIMEZONE
END:VCALENDAR
