BEGIN:VCALENDAR
VERSION:2.0
PRODID:-//Plone.org//NONSGML plone.app.event//EN
X-WR-TIMEZONE:US/Central
BEGIN:VEVENT
SUMMARY:Holly Jolly Bubble Bus Sponsored by the Kiwanis Club of Jerseyvill
 e
DTSTART;TZID=US/Central:20191214T100000
DTEND;TZID=US/Central:20191214T120000
DTSTAMP:20260420T173242Z
UID:619febf98fa546a3b7804d17b333d99f@saas_stack_varnish:6080
CONTACT:Laurie\, 6184989514\, lauriei@jerseyvillelibrary.org
CREATED:20191108T215825Z
DESCRIPTION:Open to children Pre-K - Grade 5
LAST-MODIFIED:20191108T215829Z
LOCATION:Jerseyville PL parking lot
URL:https://www.jerseyvillelibrary.org/news-events/lib-cal/holly-jolly-bub
 ble-bus-sponsored-by-the-kiwanis-club-of-jerseyville
END:VEVENT
BEGIN:VTIMEZONE
TZID:US/Central
X-LIC-LOCATION:US/Central
BEGIN:STANDARD
DTSTART:20191103T010000
TZNAME:CST
TZOFFSETFROM:-0500
TZOFFSETTO:-0600
END:STANDARD
END:VTIMEZONE
END:VCALENDAR
