BEGIN:VCALENDAR
VERSION:2.0
PRODID:-//Plone.org//NONSGML plone.app.event//EN
X-WR-TIMEZONE:US/Central
BEGIN:VEVENT
SUMMARY:HUGE Fall Book Sale -- "Buy the Bag" continued
DTSTART;TZID=US/Central:20191005T083000
DTEND;TZID=US/Central:20191005T130000
DTSTAMP:20260420T161936Z
UID:bc07bd556b9c48aaaf9a12e2fa7f88b2@saas_stack_varnish:6080
CONTACT:618-498-9514
CREATED:20190910T214409Z
LAST-MODIFIED:20190910T214615Z
LOCATION:Jerseyville PL meeting room
URL:https://www.jerseyvillelibrary.org/news-events/lib-cal/huge-fall-book-
 sale-buy-the-bag-continued
END:VEVENT
BEGIN:VTIMEZONE
TZID:US/Central
X-LIC-LOCATION:US/Central
BEGIN:DAYLIGHT
DTSTART:20190310T030000
TZNAME:CDT
TZOFFSETFROM:-0600
TZOFFSETTO:-0500
END:DAYLIGHT
END:VTIMEZONE
END:VCALENDAR
