BEGIN:VCALENDAR
VERSION:2.0
PRODID:-//Plone.org//NONSGML plone.app.event//EN
X-WR-TIMEZONE:US/Central
BEGIN:VEVENT
SUMMARY:HUGE Fall Book Sale -- Preview Night
DTSTART;TZID=US/Central:20191003T150000
DTEND;TZID=US/Central:20191003T190000
DTSTAMP:20260420T160205Z
UID:066a403271c44ecab9e4deab82f0e9e7@saas_stack_varnish:6080
CONTACT:618.498.9514
CREATED:20190910T213819Z
LAST-MODIFIED:20190910T213826Z
LOCATION:Jerseyville PL meeting room & upstairs meeting room
URL:https://www.jerseyvillelibrary.org/news-events/lib-cal/huge-fall-book-
 sale-preview-night
END:VEVENT
BEGIN:VTIMEZONE
TZID:US/Central
X-LIC-LOCATION:US/Central
BEGIN:DAYLIGHT
DTSTART:20190310T030000
TZNAME:CDT
TZOFFSETFROM:-0600
TZOFFSETTO:-0500
END:DAYLIGHT
END:VTIMEZONE
END:VCALENDAR
