BEGIN:VCALENDAR
VERSION:2.0
PRODID:-//Plone.org//NONSGML plone.app.event//EN
X-WR-TIMEZONE:US/Central
BEGIN:VEVENT
SUMMARY:Illinois Craft with Chris
DTSTART;TZID=US/Central:20181114T183000
DTEND;TZID=US/Central:20181114T201500
DTSTAMP:20260420T104157Z
UID:62ca15b751b5451680613d279f5ce483@saas_stack_varnish:6080
CONTACT:618.498.9514
CREATED:20181102T210434Z
LAST-MODIFIED:20181102T210441Z
LOCATION:Jerseyville Public Library
URL:https://www.jerseyvillelibrary.org/news-events/lib-cal/illinois-craft-
 with-chris
END:VEVENT
BEGIN:VTIMEZONE
TZID:US/Central
X-LIC-LOCATION:US/Central
BEGIN:STANDARD
DTSTART:20181104T010000
TZNAME:CST
TZOFFSETFROM:-0500
TZOFFSETTO:-0600
END:STANDARD
END:VTIMEZONE
END:VCALENDAR
