BEGIN:VCALENDAR
VERSION:2.0
PRODID:-//Plone.org//NONSGML plone.app.event//EN
X-WR-TIMEZONE:US/Central
BEGIN:VEVENT
SUMMARY:Jerseyville Halloween Festival 2019 Closure
DTSTART;TZID=US/Central:20191026T083000
DTEND;TZID=US/Central:20191026T133000
DTSTAMP:20260420T161942Z
UID:cee6f54800e94b859f9df6dcdcee2a02@saas_stack_varnish:6080
CREATED:20191001T150421Z
LAST-MODIFIED:20191025T183612Z
URL:https://www.jerseyvillelibrary.org/news-events/lib-cal/jerseyville-hal
 loween-festival-2019-closure
END:VEVENT
BEGIN:VTIMEZONE
TZID:US/Central
X-LIC-LOCATION:US/Central
BEGIN:DAYLIGHT
DTSTART:20190310T030000
TZNAME:CDT
TZOFFSETFROM:-0600
TZOFFSETTO:-0500
END:DAYLIGHT
END:VTIMEZONE
END:VCALENDAR
