BEGIN:VCALENDAR
VERSION:2.0
PRODID:-//Plone.org//NONSGML plone.app.event//EN
X-WR-TIMEZONE:US/Central
BEGIN:VEVENT
SUMMARY:Jerseyville PL Book Club
DTSTART;TZID=US/Central:20181029T180000
DTEND;TZID=US/Central:20181029T190000
DTSTAMP:20260420T105929Z
UID:ed0139c1dd0e4c6ca98040929ab770f3@saas_stack_varnish:6080
CONTACT:618.498.9514
CREATED:20180930T181013Z
LAST-MODIFIED:20180930T181019Z
LOCATION:Jerseyville PL meeting room
URL:https://www.jerseyvillelibrary.org/news-events/lib-cal/jerseyville-pl-
 book-club
END:VEVENT
BEGIN:VTIMEZONE
TZID:US/Central
X-LIC-LOCATION:US/Central
BEGIN:DAYLIGHT
DTSTART:20180311T030000
TZNAME:CDT
TZOFFSETFROM:-0600
TZOFFSETTO:-0500
END:DAYLIGHT
END:VTIMEZONE
END:VCALENDAR
