BEGIN:VCALENDAR
VERSION:2.0
PRODID:-//Plone.org//NONSGML plone.app.event//EN
X-WR-TIMEZONE:US/Central
BEGIN:VEVENT
SUMMARY:Job Seeker Workshop
DTSTART;TZID=US/Central:20181108T130000
DTEND;TZID=US/Central:20181108T150000
DTSTAMP:20260420T104104Z
UID:9e85d27b11484b6c9407b265d62a99b5@saas_stack_varnish:6080
CONTACT:Barb\, 217-854-6115 x232
CREATED:20181102T205516Z
DESCRIPTION:Resume Writing
LAST-MODIFIED:20181102T205529Z
LOCATION:Jerseyville Job Center\, 301 W. Exchange St.\, Jerseyville
URL:https://www.jerseyvillelibrary.org/news-events/lib-cal/job-seeker-work
 shop-1
END:VEVENT
BEGIN:VTIMEZONE
TZID:US/Central
X-LIC-LOCATION:US/Central
BEGIN:STANDARD
DTSTART:20181104T010000
TZNAME:CST
TZOFFSETFROM:-0500
TZOFFSETTO:-0600
END:STANDARD
END:VTIMEZONE
END:VCALENDAR
