BEGIN:VCALENDAR
VERSION:2.0
PRODID:-//Plone.org//NONSGML plone.app.event//EN
X-WR-TIMEZONE:US/Central
BEGIN:VEVENT
SUMMARY:Job Seeker Workshop
DTSTART;TZID=US/Central:20181108T100000
DTEND;TZID=US/Central:20181108T113000
DTSTAMP:20260420T103944Z
UID:071e612bd20842d7a9e5ab586775ddfd@saas_stack_varnish:6080
CONTACT:Barb\, 217-854-6115 x232
CREATED:20181102T205305Z
DESCRIPTION:Job Search
LAST-MODIFIED:20181102T205328Z
LOCATION:Jerseyville Public Library
URL:https://www.jerseyvillelibrary.org/news-events/lib-cal/job-seeker-work
 shop
END:VEVENT
BEGIN:VTIMEZONE
TZID:US/Central
X-LIC-LOCATION:US/Central
BEGIN:STANDARD
DTSTART:20181104T010000
TZNAME:CST
TZOFFSETFROM:-0500
TZOFFSETTO:-0600
END:STANDARD
END:VTIMEZONE
END:VCALENDAR
