BEGIN:VCALENDAR
VERSION:2.0
PRODID:-//Plone.org//NONSGML plone.app.event//EN
X-WR-TIMEZONE:US/Central
BEGIN:VEVENT
SUMMARY:JPL Monthly Book Club for Adults
DTSTART;TZID=US/Central:20180430T180000
DTEND;TZID=US/Central:20180430T190000
DTSTAMP:20260420T082539Z
UID:64ba8842050b40958eb58ca58b58b4bf@saas_stack_varnish:6080
CONTACT:Brandi\, 618.498.9514\, brandip@jerseyvillelibrary.org
CREATED:20180327T220125Z
LAST-MODIFIED:20180327T220129Z
LOCATION:Jerseyville PL upstairs meeting room
URL:https://www.jerseyvillelibrary.org/news-events/lib-cal/jpl-monthly-boo
 k-club-for-adults-4
END:VEVENT
BEGIN:VTIMEZONE
TZID:US/Central
X-LIC-LOCATION:US/Central
BEGIN:DAYLIGHT
DTSTART:20180311T030000
TZNAME:CDT
TZOFFSETFROM:-0600
TZOFFSETTO:-0500
END:DAYLIGHT
END:VTIMEZONE
END:VCALENDAR
