BEGIN:VCALENDAR
VERSION:2.0
PRODID:-//Plone.org//NONSGML plone.app.event//EN
X-WR-TIMEZONE:US/Central
BEGIN:VEVENT
SUMMARY:JPL Monthly Book Club
DTSTART;TZID=US/Central:20180924T180000
DTEND;TZID=US/Central:20180924T190000
DTSTAMP:20260420T093436Z
UID:c80a66fef75549d880626c923d9b8b2a@saas_stack_varnish:6080
CONTACT:Brandi\, 618.498.9514\, brandip@jerseyvillelibrary
CREATED:20180906T213140Z
LAST-MODIFIED:20180906T213147Z
LOCATION:Jerseyville PL upstairs meeting room
URL:https://www.jerseyvillelibrary.org/news-events/lib-cal/jpl-monthly-boo
 k-club
END:VEVENT
BEGIN:VTIMEZONE
TZID:US/Central
X-LIC-LOCATION:US/Central
BEGIN:DAYLIGHT
DTSTART:20180311T030000
TZNAME:CDT
TZOFFSETFROM:-0600
TZOFFSETTO:-0500
END:DAYLIGHT
END:VTIMEZONE
END:VCALENDAR
